BEGIN:VCALENDAR
VERSION:2.0
PRODID:-//eventon.com NONSGML v1.0//EN
CALSCALE:GREGORIAN
METHOD:PUBLISH
BEGIN:VEVENT
UID:69eccc558d311
DTSTAMP:20260425T101445
DTSTART:20260326T000000Z
DTEND:20260326T020000Z
TZID:America/New_York
LOCATION:Yonder: Southern Cocktails and Brew 114 West King Street\,  Hillsborough\,  NC 27278
SUMMARY:TAN AND SOBER UNPLUGGED
DESCRIPTION: Tan &amp; Sober Gentlemen Born and raised in North Carolina\,  the Tan and Sober Gentlemen began taking in the songs\,  stories\,  and tunes that make up their beloved state&#8217;s musical tradition before they could talk. The music of the Carolinas (and Appalachia in general) stems from the marriage of the[..]\nhttps://yonderbarnc.com/events/tan-and-sober-unplugged/
URL:https://yonderbarnc.com/events/tan-and-sober-unplugged/
END:VEVENT
END:VCALENDAR